BEGIN:VCALENDAR
VERSION:2.0
PRODID:-//hacksw/handcal//NONSGML v1.0//EN
BEGIN:VEVENT
SUMMARY:Equipe 5 journee 4
UID:e7afb296-04c8-4a82-84e5-e5125bf93a60
DTSTART:20260424T183000Z
DTEND:20260424T220000Z
LOCATION:Localisation Salle du Bourg 16380 Chazelles
CATEGORIES:Sportif
STATUS:
URL;VALUE=URI:https://www.cpc16.com/evenements/2026/04/24/equipe-5-journee-4-2418623
END:VEVENT
END:VCALENDAR
