BEGIN:VCALENDAR
VERSION:2.0
PRODID:-//hacksw/handcal//NONSGML v1.0//EN
BEGIN:VEVENT
SUMMARY:Equipe 4 journee 4
UID:d6d3a248-e9a2-4905-a9d2-5863e3590dd3
DTSTART:20260424T183000Z
DTEND:20260424T220000Z
LOCATION:Localisation Gymnase de Rouillac Rue des fins bois 16170 Rouillac
CATEGORIES:Sportif
STATUS:
URL;VALUE=URI:https://www.cpc16.com/evenements/2026/04/24/equipe-4-journee-4-2418616
END:VEVENT
END:VCALENDAR
