BEGIN:VCALENDAR
VERSION:2.0
PRODID:-//hacksw/handcal//NONSGML v1.0//EN
BEGIN:VEVENT
SUMMARY:Equipe 3 journee 4
UID:18c4e2cb-ccf1-4059-9ad6-b8f8624b3fab
DTSTART:20260424T183000Z
DTEND:20260424T220000Z
LOCATION:Localisation Salle Domi Route de marthon 16380 Chazelles
CATEGORIES:Sportif
STATUS:
URL;VALUE=URI:https://www.cpc16.com/evenements/2026/04/24/equipe-3-journee-4-2418609
END:VEVENT
END:VCALENDAR
