BEGIN:VCALENDAR
VERSION:2.0
PRODID:-//hacksw/handcal//NONSGML v1.0//EN
BEGIN:VEVENT
SUMMARY:Equipe 2 journee 4
UID:98b0d88e-40b6-4e37-bcfc-a86a5d350efb
DTSTART:20260424T183000Z
DTEND:20260424T220000Z
LOCATION:Localisation Salle Omnisport La croix Chadenne 16120 Chateauneuf sur Charente
CATEGORIES:Sportif
STATUS:
URL;VALUE=URI:https://www.cpc16.com/evenements/2026/04/24/equipe-2-journee-4-2418602
END:VEVENT
END:VCALENDAR
