BEGIN:VCALENDAR
VERSION:2.0
PRODID:-//hacksw/handcal//NONSGML v1.0//EN
BEGIN:VEVENT
SUMMARY:Equipe 1 journee 4
UID:46147377-c00c-4f85-af85-4b7ebf0ab669
DTSTART:20260424T183000Z
DTEND:20260424T220000Z
LOCATION:Localisation Salle Domi Route de Marthon 16380 Chazelles
CATEGORIES:Sportif
STATUS:
URL;VALUE=URI:https://www.cpc16.com/evenements/2026/04/24/equipe-1-journee-4-2418595
END:VEVENT
END:VCALENDAR
